BEGIN:VCALENDAR
VERSION:2.0
PRODID:EVENTFROG//EVENT//ICAL
BEGIN:VEVENT
UID:20260424T084651Z-7451991971017554731@eventfrog.de
DTSTAMP:20260424T084651Z
DTSTART:20261006T120000Z
DTEND:20261006T133000Z
SUMMARY:Hirschen-Plauderei
DESCRIPTION:In lockerer Runde tauschen sich Teilnehmende unter einer Moderatorin zu wechselnden Themen aus. Anschliessend gibt es ein kleines Zvieri.\n\nhttps://eventfrog.de/de/p/diverses/hirschen-plauderei-7451991971017554731.html
LOCATION:Haus Hirschen
GEO:47.206758;7.535388
URL:https://eventfrog.de/de/p/diverses/hirschen-plauderei-7451991971017554731.html
END:VEVENT
END:VCALENDAR