BEGIN:VCALENDAR
VERSION:2.0
PRODID:EVENTFROG//EVENT//ICAL
BEGIN:VEVENT
UID:20260424T084717Z-7451991971185326902@eventfrog.de
DTSTAMP:20260424T084717Z
DTSTART:20261117T130000Z
DTEND:20261117T143000Z
SUMMARY:Hirschen-Plauderei «Licht und Schatten»
DESCRIPTION:In lockerer Runde tauschen sich Teilnehmende unter einer Moderatorin zu wechselnden Themen aus. Anschliessend gibt es ein kleines Zvieri.\n\nhttps://eventfrog.de/de/p/diverses/hirschen-plauderei-licht-und-schatten-7451991971185326902.html
LOCATION:Haus Hirschen
GEO:47.206758;7.535388
URL:https://eventfrog.de/de/p/diverses/hirschen-plauderei-licht-und-schatten-7451991971185326902.html
END:VEVENT
END:VCALENDAR