BEGIN:VCALENDAR
VERSION:2.0
PRODID:EVENTFROG//EVENT//ICAL
BEGIN:VEVENT
UID:20260424T083230Z-7451994019469501015@eventfrog.de
DTSTAMP:20260424T083230Z
DTSTART:20260430T173000Z
SUMMARY:Les rendez-vous du jeudi
DESCRIPTION:Montée des évangéliques et crise des réformés ? Un regard théologique \n\nhttps://eventfrog.de/fr/p/visites-conferences/conference/les-rendez-vous-du-jeudi-7451994019469501015.html
LOCATION:Auditorium Barbier-Mueller
GEO:46.200256;6.148560
URL:https://eventfrog.de/fr/p/visites-conferences/conference/les-rendez-vous-du-jeudi-7451994019469501015.html
END:VEVENT
END:VCALENDAR