BEGIN:VCALENDAR
VERSION:2.0
PRODID:EVENTFROG//EVENT//ICAL
BEGIN:VEVENT
UID:20260420T224155Z-7451995354155721390@eventfrog.de
DTSTAMP:20260420T224155Z
DTSTART:20260917T130000Z
DTEND:20260917T190000Z
SUMMARY:Gewerbeschau Basel 2026 / Regio Netztreff Live
DESCRIPTION:Am 17. September 2026 treffen sich über 30 Unternehmer im Emil Frey Showroom Basel zum effizienten Netzwerken.\n\nhttps://eventfrog.de/de/p/messen/gewerbeschau/gewerbeschau-basel-2026-regio-netztreff-live-7451995354155721390.html
LOCATION:Gewerbeschau Basel 2026
GEO:47.536362;7.610085
URL:https://eventfrog.de/de/p/messen/gewerbeschau/gewerbeschau-basel-2026-regio-netztreff-live-7451995354155721390.html
END:VEVENT
END:VCALENDAR