BEGIN:VCALENDAR
VERSION:2.0
PRODID:EVENTFROG//EVENT//ICAL
BEGIN:VEVENT
UID:20260424T065523Z-7451995594145422835@eventfrog.de
DTSTAMP:20260424T065523Z
DTSTART:20260508T170000Z
DTEND:20260508T190000Z
SUMMARY:Buchvernissage „Leola Tochter des Opals“ von Rafael Wagner
DESCRIPTION:Erlebe eine atmosphärische Buchvernissage mit Rafael Wagner und tauche ein in sein Science-Fantasy-Debüt „Leola – Tochter des Opals“, ein packendes Steampunk-Abenteuer.\n\nhttps://eventfrog.de/en/p/art-exhibitions/vernissage/buchvernissage-leola-tochter-des-opals-von-rafael-wagner-7451995594145422835.html
LOCATION:Cozy Place
GEO:47.555552;7.586724
URL:https://eventfrog.de/en/p/art-exhibitions/vernissage/buchvernissage-leola-tochter-des-opals-von-rafael-wagner-7451995594145422835.html
END:VEVENT
END:VCALENDAR