BEGIN:VCALENDAR
VERSION:2.0
PRODID:EVENTFROG//EVENT//ICAL
BEGIN:VEVENT
UID:20260424T092054Z-7452000931942556423@eventfrog.de
DTSTAMP:20260424T092054Z
DTSTART:20260515T180000Z
DTEND:20260515T200000Z
SUMMARY:Datenschutz & Risiken
DESCRIPTION:Lerne in dieser Schulung, wie du deine digitalen Daten und dein Vermögen vor Betrug und Identitätsdiebstahl schützt.\n\nhttps://eventfrog.de/de/p/kurse-seminare/allgemeinbildung/datenschutz-risiken-7452000931942556423.html
LOCATION:zB. Zentrum Bildung
GEO:47.469345;8.303556
URL:https://eventfrog.de/de/p/kurse-seminare/allgemeinbildung/datenschutz-risiken-7452000931942556423.html
END:VEVENT
END:VCALENDAR