BEGIN:VCALENDAR
VERSION:2.0
PRODID:EVENTFROG//EVENT//ICAL
BEGIN:VEVENT
UID:20260424T100245Z-7452002333372722055@eventfrog.de
DTSTAMP:20260424T100245Z
DTSTART:20260918T173000Z
DTEND:20260918T184000Z
SUMMARY:still still
DESCRIPTION:Eine Bühne, 16 Performer*innen, Stille. Zwischen Verstummen und leisem Widerstand, zwischen Isolation und Beziehung – still still ist eine spielerische Einladung, dem Leisen Raum zu geben.\n\nhttps://eventfrog.de/de/p/theater-buehne/tanz/still-still-7452002333372722055.html
LOCATION:Theater BAU3
GEO:47.541733;7.593251
URL:https://eventfrog.de/de/p/theater-buehne/tanz/still-still-7452002333372722055.html
END:VEVENT
END:VCALENDAR