BEGIN:VCALENDAR
VERSION:2.0
PRODID:EVENTFROG//EVENT//ICAL
BEGIN:VEVENT
UID:20260424T083143Z-7452016137884192427@eventfrog.de
DTSTAMP:20260424T083143Z
DTSTART:20260919T080000Z
DTEND:20260919T150000Z
SUMMARY:Alpkäsefest
DESCRIPTION:Am Betttagsamstag laden die Spycher mit Alpkäse und Spezialitäten zum Degustieren und gemütlichen Kessicafe zum Austausch ein.\n\nhttps://eventfrog.de/de/p/freizeit-ausfluege/brauchtum/alpkaesefest-7452016137884192427.html
LOCATION:Grosse Scheidegg
GEO:46.655908;8.101896
URL:https://eventfrog.de/de/p/freizeit-ausfluege/brauchtum/alpkaesefest-7452016137884192427.html
END:VEVENT
END:VCALENDAR