BEGIN:VCALENDAR
VERSION:2.0
PRODID:EVENTFROG//EVENT//ICAL
BEGIN:VEVENT
UID:20260421T002429Z-7452033966675081488@eventfrog.de
DTSTAMP:20260421T002429Z
DTSTART:20260509T130000Z
DTEND:20260509T160000Z
SUMMARY:Vorträge mit Hans Peter Escher
DESCRIPTION:Vorträge zu buddhistischen Themen mit Hans Peter Escher\n\nhttps://eventfrog.de/de/p/religion-feiertage/sonstige-veranstaltungen/vortraege-mit-hans-peter-escher-7452033966675081488.html
LOCATION:Buddhistisches Zentrum Stuttgart der Karma Kagyü Linie e.V.
GEO:48.774375;9.182273
URL:https://eventfrog.de/de/p/religion-feiertage/sonstige-veranstaltungen/vortraege-mit-hans-peter-escher-7452033966675081488.html
END:VEVENT
END:VCALENDAR