BEGIN:VCALENDAR
VERSION:2.0
PRODID:EVENTFROG//EVENT//ICAL
BEGIN:VEVENT
UID:20260422T054307Z-7452045835544623887@eventfrog.de
DTSTAMP:20260422T054307Z
DTSTART:20260723T070000Z
DTEND:20260724T000000Z
SUMMARY:Noches de la Tribu
DESCRIPTION:Nanki Experience präsentiert „Noches de la Tribu“, ein Live-Erlebnis lateinamerikanischer Musik, das ab jetzt jeden Donnerstag als wöchentliches Ritual für Begegnung und Verbindung stattfindet.\n\nhttps://eventfrog.de/de/p/konzerte/folk/noches-de-la-tribu-7452045835544623887.html
LOCATION:Shuar Design
GEO:46.948658;7.454978
URL:https://eventfrog.de/de/p/konzerte/folk/noches-de-la-tribu-7452045835544623887.html
END:VEVENT
END:VCALENDAR