BEGIN:VCALENDAR
VERSION:2.0
PRODID:EVENTFROG//EVENT//ICAL
BEGIN:VEVENT
UID:20260422T114243Z-7452048318971048794@eventfrog.de
DTSTAMP:20260422T114243Z
DTSTART:20261002T180000Z
SUMMARY:Dilan Balkay
DESCRIPTION:Dilan Balkay spielt Live und verbindet in ihren Alben Jazz und alternative Musik mit starken Erzählungen.\n\nhttps://eventfrog.de/de/p/konzerte/weitere-musikrichtungen/dilan-balkay-7452048318971048794.html
LOCATION:Jugend[widerstands]museum Galiläakirche
GEO:52.517710;13.456090
URL:https://eventfrog.de/de/p/konzerte/weitere-musikrichtungen/dilan-balkay-7452048318971048794.html
END:VEVENT
END:VCALENDAR