BEGIN:VCALENDAR
VERSION:2.0
PRODID:EVENTFROG//EVENT//ICAL
BEGIN:VEVENT
UID:20260424T040944Z-7452049877922508103@eventfrog.de
DTSTAMP:20260424T040944Z
DTSTART:20260514T151500Z
DTEND:20260514T230000Z
SUMMARY:Burlesque Workshop & Show
DESCRIPTION:Workshop und zwei Burlesque-Shows mit Kokeshi Momo und Amber Eve, ab 17 Uhr in Winterhur, glamouröser Abend voller Spannung.\n\nhttps://eventfrog.de/de/p/musicals-shows/show/burlesque-workshop-show-7452049877922508103.html
LOCATION:Labüsch Bar
GEO:47.495042;8.717806
URL:https://eventfrog.de/de/p/musicals-shows/show/burlesque-workshop-show-7452049877922508103.html
END:VEVENT
END:VCALENDAR