BEGIN:VCALENDAR
VERSION:2.0
PRODID:EVENTFROG//EVENT//ICAL
BEGIN:VEVENT
UID:20260424T065525Z-7452094848557927781@eventfrog.de
DTSTAMP:20260424T065525Z
DTSTART:20260509T183000Z
DTEND:20260509T210000Z
SUMMARY:Attila Vural & Isam Shéhade: freie Klänge mit Bodenhaftung
DESCRIPTION:Attila Vural und Isam Shéhade schaffen mit Gitarre und Klarinette einen kraftvollen, jazzigen Groove voller Energie und Frische.\n\nhttps://eventfrog.de/de/p/konzerte/jazz-blues/attila-vural-isam-shehade-freie-klaenge-mit-bodenhaftung-7452094848557927781.html
LOCATION:Kultur im Nomad Café
GEO:47.485938;8.206990
URL:https://eventfrog.de/de/p/konzerte/jazz-blues/attila-vural-isam-shehade-freie-klaenge-mit-bodenhaftung-7452094848557927781.html
END:VEVENT
END:VCALENDAR