BEGIN:VCALENDAR
VERSION:2.0
PRODID:EVENTFROG//EVENT//ICAL
BEGIN:VEVENT
UID:20260421T163247Z-7452104043080471724@eventfrog.de
DTSTAMP:20260421T163247Z
DTSTART:20260524T110000Z
DTEND:20260524T200000Z
SUMMARY:Reiserummelplatz - Innsbruck
DESCRIPTION:Erweitere deine Reiseskills in interaktiven Workshops, schmecke dich durch internationale Kulinarik und connecte dich mit Gleichgesinnten für dein nächstes Abenteuer! \n\nhttps://eventfrog.de/de/p/festivals/weitere-festivals/reiserummelplatz-innsbruck-7452104043080471724.html
LOCATION:UP STREAM SURFING | Airport Reef Innsbruck
GEO:47.261126;11.328422
URL:https://eventfrog.de/de/p/festivals/weitere-festivals/reiserummelplatz-innsbruck-7452104043080471724.html
END:VEVENT
END:VCALENDAR