BEGIN:VCALENDAR
VERSION:2.0
PRODID:EVENTFROG//EVENT//ICAL
BEGIN:VEVENT
UID:20260424T084818Z-7452110679828393402@eventfrog.de
DTSTAMP:20260424T084818Z
DTSTART:20260509T130000Z
SUMMARY:Das kleine 1x1 der Sterne
DESCRIPTION:Fulldome-Abenteuer für die ganze Familie.\n\nhttps://eventfrog.de/de/p/wissenschaft-und-technik/das-kleine-1x1-der-sterne-7452110679828393402.html
LOCATION:Planetarium | Bodensee
GEO:47.641511;9.159443
URL:https://eventfrog.de/de/p/wissenschaft-und-technik/das-kleine-1x1-der-sterne-7452110679828393402.html
END:VEVENT
END:VCALENDAR