BEGIN:VCALENDAR
VERSION:2.0
PRODID:EVENTFROG//EVENT//ICAL
BEGIN:VEVENT
UID:20260424T074718Z-7452113822100234539@eventfrog.de
DTSTAMP:20260424T074718Z
DTSTART:20260501T170000Z
DTEND:20260502T000000Z
SUMMARY:JamFreeday
DESCRIPTION:Spontanes Zusammenspiel mit neuen und alten Bekanntschaften.\n\nhttps://eventfrog.de/de/p/konzerte/jamfreeday-7452113822100234539.html
LOCATION:Dä 3.Stock, Kultur hoch 3
GEO:47.382728;9.275600
URL:https://eventfrog.de/de/p/konzerte/jamfreeday-7452113822100234539.html
END:VEVENT
END:VCALENDAR