BEGIN:VCALENDAR
VERSION:2.0
PRODID:EVENTFROG//EVENT//ICAL
BEGIN:VEVENT
UID:20260425T235156Z-7452115917859732452@eventfrog.de
DTSTAMP:20260425T235156Z
DTSTART:20260510T130000Z
SUMMARY:Dschungelbuch
DESCRIPTION:Mit Bagheera leise durch den Dschungel schleichen.\n\nhttps://eventfrog.de/de/p/theater-buehne/dschungelbuch-7452115917859732452.html
LOCATION:Storchen
GEO:47.427136;9.376076
URL:https://eventfrog.de/de/p/theater-buehne/dschungelbuch-7452115917859732452.html
END:VEVENT
END:VCALENDAR