BEGIN:VCALENDAR
VERSION:2.0
PRODID:EVENTFROG//EVENT//ICAL
BEGIN:VEVENT
UID:20260424T104935Z-7452115921190009862@eventfrog.de
DTSTAMP:20260424T104935Z
DTSTART:20260502T120000Z
SUMMARY:Das Beste
DESCRIPTION:Das Beste\n\nhttps://eventfrog.de/de/p/kunst-ausstellungen/das-beste-7452115921190009862.html
LOCATION:Stern-Apotheke
GEO:47.424604;9.379407
URL:https://eventfrog.de/de/p/kunst-ausstellungen/das-beste-7452115921190009862.html
END:VEVENT
END:VCALENDAR