BEGIN:VCALENDAR
VERSION:2.0
PRODID:EVENTFROG//EVENT//ICAL
BEGIN:VEVENT
UID:20260424T081949Z-7452158484437561585@eventfrog.de
DTSTAMP:20260424T081949Z
DTSTART:20260508T200000Z
SUMMARY:escargot. FREE ENTRY
DESCRIPTION:Tickets sind in fünf limitierten Phasen verfügbar, von gratis bis 20 CHF, mit Optionen für Secret Floor.\n\nhttps://eventfrog.de/de/p/partys/house-techno/escargot-free-entry-7452158484437561585.html
LOCATION:HEIMAT - Bar, Club, Stage, Kitchen
GEO:47.569005;7.601645
URL:https://eventfrog.de/de/p/partys/house-techno/escargot-free-entry-7452158484437561585.html
END:VEVENT
END:VCALENDAR