BEGIN:VCALENDAR
VERSION:2.0
PRODID:EVENTFROG//EVENT//ICAL
BEGIN:VEVENT
UID:20260424T195657Z-7452191927523355244@eventfrog.de
DTSTAMP:20260424T195657Z
DTSTART:20260522T170000Z
DTEND:20260522T180000Z
SUMMARY:Klassisches Konzert
DESCRIPTION:Es werden Werke von Antonio Vivaldi, Michel Corrette, Joseph Haydn, Zoltan Kodaly und Sergeij Prokofiev gespielt.\n\nhttps://eventfrog.de/de/p/klassik-opern/klassik/klassisches-konzert-7452191927523355244.html
LOCATION:Galerie Kemptnertobel
GEO:47.330500;8.823770
URL:https://eventfrog.de/de/p/klassik-opern/klassik/klassisches-konzert-7452191927523355244.html
END:VEVENT
END:VCALENDAR