BEGIN:VCALENDAR
VERSION:2.0
PRODID:EVENTFROG//EVENT//ICAL
BEGIN:VEVENT
UID:20260426T012547Z-7452230692149190743@eventfrog.de
DTSTAMP:20260426T012547Z
DTSTART:20260528T180000Z
DTEND:20260528T200000Z
SUMMARY:iandara - Single Release Konzert
DESCRIPTION:iandara feiert mit ihrem Trio den Release der Single «Gurl» am 28. Mai um 20 Uhr in der Galicia Bar Olten.\n\nhttps://eventfrog.de/de/p/konzerte/singer-songwriter/iandara-single-release-konzert-7452230692149190743.html
LOCATION:Galicia Musik Bar
GEO:47.349542;7.908778
URL:https://eventfrog.de/de/p/konzerte/singer-songwriter/iandara-single-release-konzert-7452230692149190743.html
END:VEVENT
END:VCALENDAR