BEGIN:VCALENDAR
VERSION:2.0
PRODID:EVENTFROG//EVENT//ICAL
BEGIN:VEVENT
UID:20260424T123515Z-7452238510637996431@eventfrog.de
DTSTAMP:20260424T123515Z
DTSTART:20260506T120000Z
DTEND:20260506T160000Z
SUMMARY:Basteln fürs Mami
DESCRIPTION:Am 6. Mai von 14 bis 18 Uhr sind alle Kinder herzlich eingeladen, wunderschöne Geschenke für den Muttertag zu basteln.\n\nhttps://eventfrog.de/de/p/kinderveranstaltungen/familienveranstaltungen/basteln-fuers-mami-7452238510637996431.html
LOCATION:Shopping Arena
GEO:47.407772;9.304128
URL:https://eventfrog.de/de/p/kinderveranstaltungen/familienveranstaltungen/basteln-fuers-mami-7452238510637996431.html
END:VEVENT
END:VCALENDAR