BEGIN:VCALENDAR
VERSION:2.0
PRODID:EVENTFROG//EVENT//ICAL
BEGIN:VEVENT
UID:20260424T094047Z-7452239364837386938@eventfrog.de
DTSTAMP:20260424T094047Z
DTSTART:20261125T190000Z
DTEND:20261125T210000Z
SUMMARY:POWERPOINT KARAOKE
DESCRIPTION:Fabian Rütsche und Benjamin Heutschi improvisieren PowerPoint-Karaoke im Theater Stuhlfabrik Herisau, Türöffnung 19.00 Uhr.\n\nhttps://eventfrog.de/de/p/theater-buehne/buehnenveranstaltung/powerpoint-karaoke-7452239364837386938.html
LOCATION:Stuhlfabrik Herisau
GEO:47.387798;9.284961
URL:https://eventfrog.de/de/p/theater-buehne/buehnenveranstaltung/powerpoint-karaoke-7452239364837386938.html
END:VEVENT
END:VCALENDAR