BEGIN:VCALENDAR
VERSION:2.0
PRODID:EVENTFROG//EVENT//ICAL
BEGIN:VEVENT
UID:20260422T115224Z-7452241376723399284@eventfrog.de
DTSTAMP:20260422T115224Z
DTSTART:20260515T180000Z
DTEND:20260515T200000Z
SUMMARY:HOHNER-Konservatorium + Marcos Coll & Josué Barquero
DESCRIPTION:Am 15. Mai 2026 präsentieren Studierende des HOHNER-Konservatoriums Trossingen sowie die Musiker Marcos Coll & Josué Barquero im Rahmen des Akkordeon Festivals Berlin ein mitreißendes Programm.\n\nhttps://eventfrog.de/de/p/konzerte/weitere-musikrichtungen/hohner-konservatorium-marcos-coll-josue-barquero-7452241376723399284.html
LOCATION:Estrel Berlin
GEO:52.473107;13.458782
URL:https://eventfrog.de/de/p/konzerte/weitere-musikrichtungen/hohner-konservatorium-marcos-coll-josue-barquero-7452241376723399284.html
END:VEVENT
END:VCALENDAR