BEGIN:VCALENDAR
VERSION:2.0
PRODID:EVENTFROG//EVENT//ICAL
BEGIN:VEVENT
UID:20260422T115143Z-7452242873708223891@eventfrog.de
DTSTAMP:20260422T115143Z
DTSTART:20260516T180000Z
DTEND:20260516T200000Z
SUMMARY:ArtAccA und Landes Akkordeon ROCKester Berlin
DESCRIPTION:Am 16. Mai 2026 präsentieren das Projektorchester ArtAccA und das Landes Akkordeon ROCKester Berlin im Rahmen des Akkordeon Festivals Berlin ein vielfältiges Programm von Klassik bis Rock & Pop.\n\nhttps://eventfrog.de/de/p/konzerte/weitere-musikrichtungen/artacca-und-landes-akkordeon-rockester-berlin-7452242873708223891.html
LOCATION:Estrel Berlin
GEO:52.473107;13.458782
URL:https://eventfrog.de/de/p/konzerte/weitere-musikrichtungen/artacca-und-landes-akkordeon-rockester-berlin-7452242873708223891.html
END:VEVENT
END:VCALENDAR