BEGIN:VCALENDAR
VERSION:2.0
PRODID:EVENTFROG//EVENT//ICAL
BEGIN:VEVENT
UID:20260424T065548Z-7452247416718231026@eventfrog.de
DTSTAMP:20260424T065548Z
DTSTART:20260919T180000Z
DTEND:20260919T193000Z
SUMMARY:Rayk Sprecher & Isa Wiss mit Luca Sisera: Standup Philosophy
DESCRIPTION:Das philosophisch-humorvolle Bühnenformat auf Deutsch ist zum ersten Mal zu Gast bei Kultur Ägeri. \n\n\nhttps://eventfrog.de/de/p/theater-buehne/comedy-kabarett/rayk-sprecher-isa-wiss-mit-luca-sisera-standup-philosophy-7452247416718231026.html
LOCATION:Kultroom15
GEO:47.134635;8.581421
URL:https://eventfrog.de/de/p/theater-buehne/comedy-kabarett/rayk-sprecher-isa-wiss-mit-luca-sisera-standup-philosophy-7452247416718231026.html
END:VEVENT
END:VCALENDAR