BEGIN:VCALENDAR
VERSION:2.0
PRODID:EVENTFROG//EVENT//ICAL
BEGIN:VEVENT
UID:20260421T151746Z-7452250699751025631@eventfrog.de
DTSTAMP:20260421T151746Z
DTSTART:20260517T120000Z
SUMMARY:Eine faszinierende Dinosaurier-Reise in Wolfsberg
DESCRIPTION:Interaktive Live-Show im Dinosaurier Theater vermittelt in 90 Minuten Fachwissen mit realistischen Modellen.\n\nhttps://eventfrog.de/de/p/fuehrungen-vortraege/symposium/eine-faszinierende-dinosaurier-reise-in-wolfsberg-7452250699751025631.html
LOCATION:KUSS Wolfsberg
GEO:46.835142;14.839678
URL:https://eventfrog.de/de/p/fuehrungen-vortraege/symposium/eine-faszinierende-dinosaurier-reise-in-wolfsberg-7452250699751025631.html
END:VEVENT
END:VCALENDAR