BEGIN:VCALENDAR
VERSION:2.0
PRODID:EVENTFROG//EVENT//ICAL
BEGIN:VEVENT
UID:20260426T000915Z-7452255362487431267@eventfrog.de
DTSTAMP:20260426T000915Z
DTSTART:20261017T183000Z
DTEND:20261017T200000Z
SUMMARY:Candy Dulfer - DER HERBST 26
DESCRIPTION:Die weltberühmte Saxofonistin Candy Dulfer macht mit ihrer neunköpfigen Funk-Band auf der «Funkalicious Tour» Halt in Brunnen. Eine groovige Portion Weltklasse am HERBST! \n\n\nhttps://eventfrog.de/de/p/konzerte/pop-rock/candy-dulfer-der-herbst-26-7452255362487431267.html
LOCATION:Seehotel Waldstätterhof
GEO:46.993769;8.603655
URL:https://eventfrog.de/de/p/konzerte/pop-rock/candy-dulfer-der-herbst-26-7452255362487431267.html
END:VEVENT
END:VCALENDAR