BEGIN:VCALENDAR
VERSION:2.0
PRODID:EVENTFROG//EVENT//ICAL
BEGIN:VEVENT
UID:20260424T083254Z-7452258937892531443@eventfrog.de
DTSTAMP:20260424T083254Z
DTSTART:20260517T093000Z
DTEND:20260517T103000Z
SUMMARY:Sonntagsführung
DESCRIPTION:Sonntagsführung durch die Ausstellung «HAP Grieshaber – Einschnitt  Ausdruck. Sammlung Würth»\n\nhttps://eventfrog.de/en/p/art-exhibitions/other-art-events/sonntagsfuehrung-7452258937892531443.html
LOCATION:Forum Würth Arlesheim
GEO:47.497009;7.607158
URL:https://eventfrog.de/en/p/art-exhibitions/other-art-events/sonntagsfuehrung-7452258937892531443.html
END:VEVENT
END:VCALENDAR