BEGIN:VCALENDAR
VERSION:2.0
PRODID:EVENTFROG//EVENT//ICAL
BEGIN:VEVENT
UID:20260424T083322Z-7452258938131606777@eventfrog.de
DTSTAMP:20260424T083322Z
DTSTART:20260607T093000Z
DTEND:20260607T103000Z
SUMMARY:Sonntagsführung
DESCRIPTION:Sonntagsführung durch die Ausstellung «HAP Grieshaber – Einschnitt  Ausdruck. Sammlung Würth»\n\nhttps://eventfrog.de/en/p/art-exhibitions/other-art-events/sonntagsfuehrung-7452258938131606777.html
LOCATION:Forum Würth Arlesheim
GEO:47.497009;7.607158
URL:https://eventfrog.de/en/p/art-exhibitions/other-art-events/sonntagsfuehrung-7452258938131606777.html
END:VEVENT
END:VCALENDAR