BEGIN:VCALENDAR
VERSION:2.0
PRODID:EVENTFROG//EVENT//ICAL
BEGIN:VEVENT
UID:20260421T133821Z-7452261995816950893@eventfrog.de
DTSTAMP:20260421T133821Z
DTSTART:20260428T210000Z
DTEND:20260429T020000Z
SUMMARY:Sportlerparty
DESCRIPTION:Am 28. April steigt im Gloria Landau ab 23 Uhr die ultimative Sportler Party mit bester Musik und ausgelassener Stimmung.\n\nhttps://eventfrog.de/de/p/partys/sonstige-partys/sportlerparty-7452261995816950893.html
LOCATION:Gloria Kulturpalast
GEO:49.198684;8.117088
URL:https://eventfrog.de/de/p/partys/sonstige-partys/sportlerparty-7452261995816950893.html
END:VEVENT
END:VCALENDAR