BEGIN:VCALENDAR
VERSION:2.0
PRODID:EVENTFROG//EVENT//ICAL
BEGIN:VEVENT
UID:20260422T152948Z-7452262883713415167@eventfrog.de
DTSTAMP:20260422T152948Z
DTSTART:20260501T120000Z
DTEND:20260501T160000Z
SUMMARY:Franziska Zumbach - Kerala Sari & Co.
DESCRIPTION:Franziska Zumbach zeigt ihre neuen Arbeiten.\n\nhttps://eventfrog.de/de/p/kunst-ausstellungen/ausstellung/franziska-zumbach-kerala-sari-co-7452262883713415167.html
LOCATION:Galerie Carla Renggli
GEO:47.165660;8.514703
URL:https://eventfrog.de/de/p/kunst-ausstellungen/ausstellung/franziska-zumbach-kerala-sari-co-7452262883713415167.html
END:VEVENT
END:VCALENDAR