BEGIN:VCALENDAR
VERSION:2.0
PRODID:EVENTFROG//EVENT//ICAL
BEGIN:VEVENT
UID:20260422T152947Z-7452262884590025615@eventfrog.de
DTSTAMP:20260422T152947Z
DTSTART:20260509T080000Z
DTEND:20260509T140000Z
SUMMARY:Franziska Zumbach - Kerala Sari & Co.
DESCRIPTION:Franziska Zumbach zeigt ihre neuen Arbeiten.\n\nhttps://eventfrog.de/de/p/kunst-ausstellungen/ausstellung/franziska-zumbach-kerala-sari-co-7452262884590025615.html
LOCATION:Galerie Carla Renggli
GEO:47.165660;8.514703
URL:https://eventfrog.de/de/p/kunst-ausstellungen/ausstellung/franziska-zumbach-kerala-sari-co-7452262884590025615.html
END:VEVENT
END:VCALENDAR