BEGIN:VCALENDAR
VERSION:2.0
PRODID:EVENTFROG//EVENT//ICAL
BEGIN:VEVENT
UID:20260424T084618Z-7452263710603672980@eventfrog.de
DTSTAMP:20260424T084618Z
DTSTART:20260502T170000Z
DTEND:20260502T200000Z
SUMMARY:Fire Days 2026 ... Einzelticket Samstagabend
DESCRIPTION:Sehnst du dich danach, vom Heiligen Geist neu entzündet zu werden und Erlebnisse zu machen, die dein Leben nachhaltig verändern??? Dann ist diese Konferenz für dich!\n\nhttps://eventfrog.de/de/p/kurse-seminare/glauben-religion/fire-days-2026-einzelticket-samstagabend-7452263710603672980.html
LOCATION:Touch the Love Ministries
GEO:47.556075;8.879864
URL:https://eventfrog.de/de/p/kurse-seminare/glauben-religion/fire-days-2026-einzelticket-samstagabend-7452263710603672980.html
END:VEVENT
END:VCALENDAR