BEGIN:VCALENDAR
VERSION:2.0
PRODID:EVENTFROG//EVENT//ICAL
BEGIN:VEVENT
UID:20260424T184322Z-7452268560389283414@eventfrog.de
DTSTAMP:20260424T184322Z
DTSTART:20260509T080000Z
DTEND:20260509T140000Z
SUMMARY:Gratis Comic Tag 2026: Die Sammlerecke Esslingen feiert mit!
DESCRIPTION:Am 9. Mai 2026 lädt die Sammlerecke Esslingen mit 22 Gratis-Comics, Signierstunden und Flohmarkt alle Comic-Fans ein.\n\nhttps://eventfrog.de/de/p/maerkte/sammlermarkt/gratis-comic-tag-2026-die-sammlerecke-esslingen-feiert-mit-7452268560389283414.html
LOCATION:Sammlerecke Comics und Romane
GEO:48.743342;9.320112
URL:https://eventfrog.de/de/p/maerkte/sammlermarkt/gratis-comic-tag-2026-die-sammlerecke-esslingen-feiert-mit-7452268560389283414.html
END:VEVENT
END:VCALENDAR