BEGIN:VCALENDAR
VERSION:2.0
PRODID:EVENTFROG//EVENT//ICAL
BEGIN:VEVENT
UID:20260422T181526Z-7452270383271521926@eventfrog.de
DTSTAMP:20260422T181526Z
DTSTART:20260623T153000Z
SUMMARY:Leben nach Microsoft
DESCRIPTION:Leben nach Microsoft – Podiumsgespräch zur Wirkung von Big Tech auf Gesellschaft, Arbeit und Demokratie\n\nhttps://eventfrog.de/de/p/fuehrungen-vortraege/podium/leben-nach-microsoft-7452270383271521926.html
LOCATION:Nordrhein-Westfälische Akademie der Wissenschaften und der Künste
GEO:51.209491;6.771480
URL:https://eventfrog.de/de/p/fuehrungen-vortraege/podium/leben-nach-microsoft-7452270383271521926.html
END:VEVENT
END:VCALENDAR