BEGIN:VCALENDAR
VERSION:2.0
PRODID:EVENTFROG//EVENT//ICAL
BEGIN:VEVENT
UID:20260421T180240Z-7452275532048130130@eventfrog.de
DTSTAMP:20260421T180240Z
DTSTART:20260529T083000Z
DTEND:20260529T090000Z
SUMMARY:Gesundheit als Basis für Erfolg: Methoden für die Arbeit
DESCRIPTION:Digitale Yoga- und Meditationseinheiten fördern im Büro die Gesundheit und stärken die Leistungsfähigkeit am Arbeitsplatz.\n\nhttps://eventfrog.de/de/p/gesundheit-spiritualitaet/gesundheit-wohlbefinden/gesundheit-als-basis-fuer-erfolg-methoden-fuer-die-arbeit-7452275532048130130.html
LOCATION:Kap Europa, Frankfurt am Main, DE, auf der der Sport & Musik Bühne
GEO:50.109966;8.653981
URL:https://eventfrog.de/de/p/gesundheit-spiritualitaet/gesundheit-wohlbefinden/gesundheit-als-basis-fuer-erfolg-methoden-fuer-die-arbeit-7452275532048130130.html
END:VEVENT
END:VCALENDAR