BEGIN:VCALENDAR
VERSION:2.0
PRODID:EVENTFROG//EVENT//ICAL
BEGIN:VEVENT
UID:20260424T065552Z-7452280808658753686@eventfrog.de
DTSTAMP:20260424T065552Z
DTSTART:20260624T150000Z
DTEND:20260624T160000Z
SUMMARY:«THE IDEA OF THE SEED» –  Barbora Jirásková
DESCRIPTION:Dieses Projekt widmet sich einer performativen Form der Kunst der Stimme. \n\nhttps://eventfrog.de/de/p/konzerte/weitere-musikrichtungen/the-idea-of-the-seed-barbora-jiraskova-7452280808658753686.html
LOCATION:Gare du Nord – Bahnhof für Neue Musik
GEO:47.567389;7.607131
URL:https://eventfrog.de/de/p/konzerte/weitere-musikrichtungen/the-idea-of-the-seed-barbora-jiraskova-7452280808658753686.html
END:VEVENT
END:VCALENDAR