BEGIN:VCALENDAR
VERSION:2.0
PRODID:EVENTFROG//EVENT//ICAL
BEGIN:VEVENT
UID:20260424T093031Z-7452282262664564110@eventfrog.de
DTSTAMP:20260424T093031Z
DTSTART:20260620T180000Z
DTEND:20260620T190000Z
SUMMARY:SOMMERBÜHNE: PETER EIGENMANN TRIO
DESCRIPTION:Das Peter Eigenmann Trio interpretiert Werke von Jim Hall aus 1959 bis 2010 im lebendigen, zeitgenössischen Stil.\n\nhttps://eventfrog.de/de/p/konzerte/jazz-blues/sommerbuehne-peter-eigenmann-trio-7452282262664564110.html
LOCATION:Schloss Wartegg
GEO:47.478425;9.530131
URL:https://eventfrog.de/de/p/konzerte/jazz-blues/sommerbuehne-peter-eigenmann-trio-7452282262664564110.html
END:VEVENT
END:VCALENDAR