BEGIN:VCALENDAR
VERSION:2.0
PRODID:EVENTFROG//EVENT//ICAL
BEGIN:VEVENT
UID:20260424T065545Z-7452283031153303849@eventfrog.de
DTSTAMP:20260424T065545Z
DTSTART:20260628T160000Z
DTEND:20260628T170000Z
SUMMARY:«Music and Scene in Transformation» – Siddhii Lagrutta
DESCRIPTION:Studierende des Masters «Musik und Szene in Transformation» der Hochschule für Musik Basel präsentieren ihre Abschlussarbeiten im Rahmen eines Minifestivals. \n\nhttps://eventfrog.de/de/p/konzerte/weitere-musikrichtungen/music-and-scene-in-transformation-siddhii-lagrutta-7452283031153303849.html
LOCATION:Gare du Nord – Bahnhof für Neue Musik
GEO:47.567389;7.607131
URL:https://eventfrog.de/de/p/konzerte/weitere-musikrichtungen/music-and-scene-in-transformation-siddhii-lagrutta-7452283031153303849.html
END:VEVENT
END:VCALENDAR