BEGIN:VCALENDAR
VERSION:2.0
PRODID:EVENTFROG//EVENT//ICAL
BEGIN:VEVENT
UID:20260421T134139Z-7452284371594137631@eventfrog.de
DTSTAMP:20260421T134139Z
DTSTART:20260529T093000Z
DTEND:20260529T100000Z
SUMMARY:MuVie: Music Education for Blind and Visually Impaired
DESCRIPTION:MuVie presents inclusive methods and digital tools that provide practical enhancements to music education for the blind and visually impaired.\n\nhttps://eventfrog.de/de/p/kurse-seminare/musik-tanz/muvie-music-education-for-blind-and-visually-impaired-7452284371594137631.html
LOCATION:Kap Europa, Frankfurt a.M. auf der Sport & Musik Bühne
GEO:50.109966;8.653981
URL:https://eventfrog.de/de/p/kurse-seminare/musik-tanz/muvie-music-education-for-blind-and-visually-impaired-7452284371594137631.html
END:VEVENT
END:VCALENDAR