BEGIN:VCALENDAR
VERSION:2.0
PRODID:EVENTFROG//EVENT//ICAL
BEGIN:VEVENT
UID:20260421T180249Z-7452285259628937822@eventfrog.de
DTSTAMP:20260421T180249Z
DTSTART:20260529T103000Z
DTEND:20260529T111500Z
SUMMARY:Praxisnahe Vorstellung Live-Audiodeskription
DESCRIPTION:Lucas Schmelz, Laura Marmit und Ann-Marit Micheel präsentieren am 13:15 live eine praxisnahe Audiodeskription vor Ort.\n\nhttps://eventfrog.de/de/p/fuehrungen-vortraege/vortrag/praxisnahe-vorstellung-live-audiodeskription-7452285259628937822.html
LOCATION:Kap Europa, Frankfurt am Main, DE, auf der der Sport & Musik Bühne
GEO:50.109966;8.653981
URL:https://eventfrog.de/de/p/fuehrungen-vortraege/vortrag/praxisnahe-vorstellung-live-audiodeskription-7452285259628937822.html
END:VEVENT
END:VCALENDAR