BEGIN:VCALENDAR
VERSION:2.0
PRODID:EVENTFROG//EVENT//ICAL
BEGIN:VEVENT
UID:20260422T210440Z-7452286592801079746@eventfrog.de
DTSTAMP:20260422T210440Z
DTSTART:20270501T070000Z
DTEND:20270503T150000Z
SUMMARY:Mediation & Achtsamkeit - 25h-Yoga-Weiterbildung
DESCRIPTION:Vom 1. bis 3. Mai 2027 vertiefen Yogalehrende in einer 25-stündigen Fortbildung Meditation und Achtsamkeit für den Unterricht.\n\nhttps://eventfrog.de/de/p/sport-fitness/yoga/mediation-achtsamkeit-25h-yoga-weiterbildung-7452286592801079746.html
LOCATION:Yoga Labor Berlin
GEO:52.462984;13.509339
URL:https://eventfrog.de/de/p/sport-fitness/yoga/mediation-achtsamkeit-25h-yoga-weiterbildung-7452286592801079746.html
END:VEVENT
END:VCALENDAR