BEGIN:VCALENDAR
VERSION:2.0
PRODID:EVENTFROG//EVENT//ICAL
BEGIN:VEVENT
UID:20260424T101435Z-7452286783780338235@eventfrog.de
DTSTAMP:20260424T101435Z
DTSTART:20260703T180000Z
DTEND:20260703T190000Z
SUMMARY:SOMMERBÜHNE: COBANA BIG BAND
DESCRIPTION:Die Cobana Big Band aus der Ostschweiz spielt mitreissenden R&B-, Funk-, Pop- und Latin-Sound mit stilsicherem Gesangstrio.\n\nhttps://eventfrog.de/de/p/konzerte/pop-rock/sommerbuehne-cobana-big-band-7452286783780338235.html
LOCATION:Schloss Wartegg
GEO:47.478425;9.530131
URL:https://eventfrog.de/de/p/konzerte/pop-rock/sommerbuehne-cobana-big-band-7452286783780338235.html
END:VEVENT
END:VCALENDAR