BEGIN:VCALENDAR
VERSION:2.0
PRODID:EVENTFROG//EVENT//ICAL
BEGIN:VEVENT
UID:20260421T163253Z-7452288649788406859@eventfrog.de
DTSTAMP:20260421T163253Z
DTSTART:20260501T090000Z
DTEND:20260501T150000Z
SUMMARY:Frühlingsfest Alte Papierfabrik
DESCRIPTION:Die EBI lädt am 1. Mai von 11 Uhr bis 17 Uhr Groß und Klein zum Frühlingsfest mit kleinem aber feinem Pflanzen- und Handwerksmarkt in die Alte Papierfabrik in Ebertsheim ein!\n\nhttps://eventfrog.de/de/p/maerkte/sonstige-maerkte/fruehlingsfest-alte-papierfabrik-7452288649788406859.html
LOCATION:Alte Papierfabrik Ebertsheim
GEO:49.565994;8.109651
URL:https://eventfrog.de/de/p/maerkte/sonstige-maerkte/fruehlingsfest-alte-papierfabrik-7452288649788406859.html
END:VEVENT
END:VCALENDAR