BEGIN:VCALENDAR
VERSION:2.0
PRODID:EVENTFROG//EVENT//ICAL
BEGIN:VEVENT
UID:20260425T132501Z-7452289049140710493@eventfrog.de
DTSTAMP:20260425T132501Z
DTSTART:20260829T060000Z
DTEND:20270612T220000Z
SUMMARY:Anjali Yoga Teacher Training
DESCRIPTION:Fundierte 200h Vinyasa Flow Yoga Ausbildung von August 2026 bis Juni 2027 mit Savina Osswald, zertifiziert von Yoga Alliance.\n\nhttps://eventfrog.de/de/p/kurse-seminare/sport-fitness/anjali-yoga-teacher-training-7452289049140710493.html
LOCATION:Anjali Studio Basel
GEO:47.557646;7.589626
URL:https://eventfrog.de/de/p/kurse-seminare/sport-fitness/anjali-yoga-teacher-training-7452289049140710493.html
END:VEVENT
END:VCALENDAR