BEGIN:VCALENDAR
VERSION:2.0
PRODID:EVENTFROG//EVENT//ICAL
BEGIN:VEVENT
UID:20260424T101303Z-7452290238028768097@eventfrog.de
DTSTAMP:20260424T101303Z
DTSTART:20260725T000000Z
DTEND:20260725T190000Z
SUMMARY:SOMMERBÜHNE: SALOME MOANA TRIO
DESCRIPTION:Salome Moana singt mit klarer, warmer Stimme ausdrucksstarke Songs zwischen Jazz, Pop und Folk mit Raum für Improvisation.\n\nhttps://eventfrog.de/de/p/konzerte/jazz-blues/sommerbuehne-salome-moana-trio-7452290238028768097.html
LOCATION:Schloss Wartegg
GEO:47.478425;9.530131
URL:https://eventfrog.de/de/p/konzerte/jazz-blues/sommerbuehne-salome-moana-trio-7452290238028768097.html
END:VEVENT
END:VCALENDAR