BEGIN:VCALENDAR
VERSION:2.0
PRODID:EVENTFROG//EVENT//ICAL
BEGIN:VEVENT
UID:20260424T084718Z-7452291013874305901@eventfrog.de
DTSTAMP:20260424T084718Z
DTSTART:20260523T180000Z
DTEND:20260523T200000Z
SUMMARY:Max Grün live - Support Jane in Flames (solo)
DESCRIPTION:Max Grün im Trio und Jane in Flames solo.\n\nhttps://eventfrog.de/de/p/konzerte/folk/max-gruen-live-support-jane-in-flames-solo-7452291013874305901.html
LOCATION:Roxy Musikbar
GEO:47.379604;8.526113
URL:https://eventfrog.de/de/p/konzerte/folk/max-gruen-live-support-jane-in-flames-solo-7452291013874305901.html
END:VEVENT
END:VCALENDAR