BEGIN:VCALENDAR
VERSION:2.0
PRODID:EVENTFROG//EVENT//ICAL
BEGIN:VEVENT
UID:20260424T170217Z-7452296827154493340@eventfrog.de
DTSTAMP:20260424T170217Z
DTSTART:20260503T120000Z
DTEND:20260503T144500Z
SUMMARY:LGBTIQ-Aktivismus in Ost-Berlin
DESCRIPTION:Peter Rausch erzählt im Queer History Month Berlin vom Kampf für Rechte und Sichtbarkeit queerer Menschen in der DDR.\n\nhttps://eventfrog.de/de/p/fuehrungen-vortraege/fuehrung/lgbtiq-aktivismus-in-ost-berlin-7452296827154493340.html
LOCATION:Besucherzentrum der Gedenkstätte Berliner Mauer
GEO:52.533777;13.387447
URL:https://eventfrog.de/de/p/fuehrungen-vortraege/fuehrung/lgbtiq-aktivismus-in-ost-berlin-7452296827154493340.html
END:VEVENT
END:VCALENDAR