BEGIN:VCALENDAR
VERSION:2.0
PRODID:EVENTFROG//EVENT//ICAL
BEGIN:VEVENT
UID:20260424T071532Z-7452301271988471460@eventfrog.de
DTSTAMP:20260424T071532Z
DTSTART:20260509T110000Z
DTEND:20260509T170000Z
SUMMARY:Wurst welcher Wein?
DESCRIPTION:Ist es wirklich Wurst, welcher Wein zur Wurst passt?  \nWir finden es nicht wurstegal. \n\nBei dieser Degustation kombinieren wir ausgewählte Weine mit frisch gegrillten Würsten und lassen deinen Gaumen \n\nhttps://eventfrog.de/de/p/essen-trinken/wurst-welcher-wein-7452301271988471460.html
LOCATION:Hardturmstrasse 253, 8005 Zürich
GEO:47.393393;8.508491
URL:https://eventfrog.de/de/p/essen-trinken/wurst-welcher-wein-7452301271988471460.html
END:VEVENT
END:VCALENDAR